BEGIN:VCALENDAR
VERSION:2.0
PRODID:-//Sacred Hill - ECPv4.6.25//NONSGML v1.0//EN
CALSCALE:GREGORIAN
METHOD:PUBLISH
X-WR-CALNAME:Sacred Hill
X-ORIGINAL-URL:https://sacredhill.com
X-WR-CALDESC:Events for Sacred Hill
BEGIN:VEVENT
DTSTART;TZID=Pacific/Auckland:20190106T120000
DTEND;TZID=Pacific/Auckland:20190106T170000
DTSTAMP:20181222T064100
CREATED:20181004T005921Z
LAST-MODIFIED:20181004T021617Z
UID:2160-1546776000-1546794000@sacredhill.com
SUMMARY:Sacred Hill Sundaze with The Puketapu (Part 1)
DESCRIPTION:Discover the rustic beauty of Sacred Hill’s much-loved cellar door this summer. The original winery site in the beautiful Dartmoor Valley is only open four days a year for you to enjoy Sacred Hill wines\, hearty food and local music. \nLegendary country pub\, The Puketapu\, will be designing a delicious Sundaze lunch menu and local favourite\, Eilish Rose will be providing the tunes. Grab a picnic rug and head for the lawn or relax at a shady picnic table for the most chilled Sunday this summer. \nLive music from Eilish Rose\, approx. 1pm – 4.30pm. \n• Free entry\n• All ages\n• Onsite parking\n• No BYO food and beverages\n• No dogs \n\n		\n			#gallery-1 {\n				margin: auto;\n			}\n			#gallery-1 .gallery-item {\n				float: left;\n				margin-top: 10px;\n				text-align: center;\n				width: 33%;\n			}\n			#gallery-1 img {\n				border: 2px solid #cfcfcf;\n			}\n			#gallery-1 .gallery-caption {\n				margin-left: 0;\n			}\n			/* see gallery_shortcode() in wp-includes/media.php */\n		\n		\n			\n				\n			\n			\n				\n			\n			\n				\n			\n			\n				\n			\n			\n				\n			\n			\n				\n			\n			\n				\n			\n			\n				\n			\n			\n				\n			\n			\n				\n			\n			\n				\n			\n			\n				\n			\n		\n\n
URL:https://sacredhill.com/events/sacred-hill-sundaze-with-the-puketapu-part-1/
LOCATION:Sacred Hill Cellar Door\, 1033 Dartmoor Road RD 6\, Puketapu\, Napier\, Hawke's Bay\, 4186\, New Zealand
GEO:-39.508523;176.7913664
X-APPLE-STRUCTURED-LOCATION;VALUE=URI;X-ADDRESS=Sacred Hill Cellar Door 1033 Dartmoor Road RD 6 Puketapu Napier Hawke's Bay 4186 New Zealand;X-APPLE-RADIUS=500;X-TITLE=1033 Dartmoor Road RD 6\, Puketapu:geo:176.7913664,-39.508523
CATEGORIES:Sundaze
ATTACH;FMTTYPE=image/jpeg:https://sacredhill.com/wp-content/uploads/13-DSC_7336.jpg
END:VEVENT
BEGIN:VEVENT
DTSTART;TZID=Pacific/Auckland:20190120T120000
DTEND;TZID=Pacific/Auckland:20190120T170000
DTSTAMP:20181222T064100
CREATED:20181004T011752Z
LAST-MODIFIED:20181004T021702Z
UID:2176-1547985600-1548003600@sacredhill.com
SUMMARY:Sacred Hill Sundaze with The Puketapu (Part 2)
DESCRIPTION:Discover the rustic beauty of Sacred Hill’s much-loved cellar door this summer. The original winery site in the beautiful Dartmoor Valley is only open 4 days a year for you to enjoy Sacred Hill wines\, hearty food and local music. \nLegendary country pub\, The Puketapu\, will be designing a delicious Sundaze lunch menu and local favourite\, Tim Hansen will be providing the tunes. Grab a picnic rug and head for the lawn or relax at a shady picnic table for the most chilled Sunday this summer. \nLive music from Tim Hansen\, approx. 1pm – 4.30pm. \n• Free entry\n• All ages\n• Onsite parking\n• No BYO food and beverages\n• No dogs \n\n		\n			#gallery-2 {\n				margin: auto;\n			}\n			#gallery-2 .gallery-item {\n				float: left;\n				margin-top: 10px;\n				text-align: center;\n				width: 33%;\n			}\n			#gallery-2 img {\n				border: 2px solid #cfcfcf;\n			}\n			#gallery-2 .gallery-caption {\n				margin-left: 0;\n			}\n			/* see gallery_shortcode() in wp-includes/media.php */\n		\n		\n			\n				\n			\n			\n				\n			\n			\n				\n			\n			\n				\n			\n			\n				\n			\n			\n				\n			\n			\n				\n			\n			\n				\n			\n			\n				\n			\n			\n				\n			\n			\n				\n			\n			\n				\n			\n		\n\n
URL:https://sacredhill.com/events/sacred-hill-sundaze-with-the-puketapu-part-1-2/
LOCATION:Sacred Hill Cellar Door\, 1033 Dartmoor Road RD 6\, Puketapu\, Napier\, Hawke's Bay\, 4186\, New Zealand
GEO:-39.508523;176.7913664
X-APPLE-STRUCTURED-LOCATION;VALUE=URI;X-ADDRESS=Sacred Hill Cellar Door 1033 Dartmoor Road RD 6 Puketapu Napier Hawke's Bay 4186 New Zealand;X-APPLE-RADIUS=500;X-TITLE=1033 Dartmoor Road RD 6\, Puketapu:geo:176.7913664,-39.508523
CATEGORIES:Sundaze
ATTACH;FMTTYPE=image/jpeg:https://sacredhill.com/wp-content/uploads/10-DSC_7324.jpg
END:VEVENT
BEGIN:VEVENT
DTSTART;TZID=Pacific/Auckland:20190203T120000
DTEND;TZID=Pacific/Auckland:20190203T170000
DTSTAMP:20181222T064100
CREATED:20181004T014355Z
LAST-MODIFIED:20181004T021724Z
UID:2187-1549195200-1549213200@sacredhill.com
SUMMARY:Sacred Hill Sundaze with The Puketapu (Part 3)
DESCRIPTION:Discover the rustic beauty of Sacred Hill’s much-loved cellar door this summer. The original winery site in the beautiful Dartmoor Valley is only open 4 days a year for you to enjoy Sacred Hill wines\, hearty food and local music. \nLegendary country pub\, The Puketapu\, will be designing a delicious Sundaze lunch menu and local favourite\, Ian Munro will be providing the tunes. Grab a picnic rug and head for the lawn or relax at a shady picnic table for the most chilled Sunday this summer. \nLive music from Ian Munro\, approx. 1pm – 4.30pm. \n• Free entry\n• All ages\n• Onsite parking\n• No BYO food and beverages\n• No dogs please \n\n		\n			#gallery-3 {\n				margin: auto;\n			}\n			#gallery-3 .gallery-item {\n				float: left;\n				margin-top: 10px;\n				text-align: center;\n				width: 33%;\n			}\n			#gallery-3 img {\n				border: 2px solid #cfcfcf;\n			}\n			#gallery-3 .gallery-caption {\n				margin-left: 0;\n			}\n			/* see gallery_shortcode() in wp-includes/media.php */\n		\n		\n			\n				\n			\n			\n				\n			\n			\n				\n			\n			\n				\n			\n			\n				\n			\n			\n				\n			\n			\n				\n			\n			\n				\n			\n			\n				\n			\n			\n				\n			\n			\n				\n			\n			\n				\n			\n		\n\n
URL:https://sacredhill.com/events/sacred-hill-sundaze-with-the-puketapu-part-1-2-2-2/
LOCATION:Sacred Hill Cellar Door\, 1033 Dartmoor Road RD 6\, Puketapu\, Napier\, Hawke's Bay\, 4186\, New Zealand
GEO:-39.508523;176.7913664
X-APPLE-STRUCTURED-LOCATION;VALUE=URI;X-ADDRESS=Sacred Hill Cellar Door 1033 Dartmoor Road RD 6 Puketapu Napier Hawke's Bay 4186 New Zealand;X-APPLE-RADIUS=500;X-TITLE=1033 Dartmoor Road RD 6\, Puketapu:geo:176.7913664,-39.508523
CATEGORIES:Sundaze
ATTACH;FMTTYPE=image/jpeg:https://sacredhill.com/wp-content/uploads/sacred-wine-range.jpg
END:VEVENT
BEGIN:VEVENT
DTSTART;TZID=Pacific/Auckland:20190217T120000
DTEND;TZID=Pacific/Auckland:20190217T170000
DTSTAMP:20181222T064100
CREATED:20181004T015903Z
LAST-MODIFIED:20181004T021749Z
UID:2190-1550404800-1550422800@sacredhill.com
SUMMARY:Sacred Hill Sundaze with The Puketapu (Part 4) - Art Deco edition
DESCRIPTION:Discover the rustic beauty of Sacred Hill’s much-loved cellar door this summer. The original winery site in the beautiful Dartmoor Valley is only open 4 days a year for you to enjoy Sacred Hill wines\, hearty food and local music. \nLegendary country pub\, The Puketapu\, will be designing a delicious Sundaze lunch menu and local favourite\, Men in Black\, will be providing the toe-tapping tunes.   Celebrate Hawke’s Bay’s unique Art Deco festivities by wearing your best Deco gear. \nGrab a picnic rug and head for the lawn or relax at a shady picnic table for the most chilled Sunday this summer. \nLive music from Men in Black\, approx. 1pm – 4.30pm. \n• Free entry\n• All ages\n• Onsite parking\n• No BYO food and beverages\n• No dogs \n\n		\n			#gallery-4 {\n				margin: auto;\n			}\n			#gallery-4 .gallery-item {\n				float: left;\n				margin-top: 10px;\n				text-align: center;\n				width: 33%;\n			}\n			#gallery-4 img {\n				border: 2px solid #cfcfcf;\n			}\n			#gallery-4 .gallery-caption {\n				margin-left: 0;\n			}\n			/* see gallery_shortcode() in wp-includes/media.php */\n		\n		\n			\n				\n			\n			\n				\n			\n			\n				\n			\n			\n				\n			\n			\n				\n			\n			\n				\n			\n			\n				\n			\n			\n				\n			\n			\n				\n			\n			\n				\n			\n			\n				\n			\n			\n				\n			\n		\n\n
URL:https://sacredhill.com/events/sacred-hill-sundaze-with-the-puketapu-part-1-2-2/
LOCATION:Sacred Hill Cellar Door\, 1033 Dartmoor Road RD 6\, Puketapu\, Napier\, Hawke's Bay\, 4186\, New Zealand
GEO:-39.508523;176.7913664
X-APPLE-STRUCTURED-LOCATION;VALUE=URI;X-ADDRESS=Sacred Hill Cellar Door 1033 Dartmoor Road RD 6 Puketapu Napier Hawke's Bay 4186 New Zealand;X-APPLE-RADIUS=500;X-TITLE=1033 Dartmoor Road RD 6\, Puketapu:geo:176.7913664,-39.508523
CATEGORIES:Sundaze
ATTACH;FMTTYPE=image/jpeg:https://sacredhill.com/wp-content/uploads/12754874_10154017866727474_929165725_o-e1538617991543.jpg
END:VEVENT
END:VCALENDAR