BEGIN:VCALENDAR
VERSION:2.0
PRODID:-//Sacred Hill - ECPv6.15.17.1//NONSGML v1.0//EN
CALSCALE:GREGORIAN
METHOD:PUBLISH
X-ORIGINAL-URL:https://sacredhill.com
X-WR-CALDESC:Events for Sacred Hill
REFRESH-INTERVAL;VALUE=DURATION:PT1H
X-Robots-Tag:noindex
X-PUBLISHED-TTL:PT1H
BEGIN:VTIMEZONE
TZID:Pacific/Auckland
BEGIN:STANDARD
TZOFFSETFROM:+1300
TZOFFSETTO:+1200
TZNAME:NZST
DTSTART:20170401T140000
END:STANDARD
BEGIN:DAYLIGHT
TZOFFSETFROM:+1200
TZOFFSETTO:+1300
TZNAME:NZDT
DTSTART:20170923T140000
END:DAYLIGHT
BEGIN:STANDARD
TZOFFSETFROM:+1300
TZOFFSETTO:+1200
TZNAME:NZST
DTSTART:20180331T140000
END:STANDARD
BEGIN:DAYLIGHT
TZOFFSETFROM:+1200
TZOFFSETTO:+1300
TZNAME:NZDT
DTSTART:20180929T140000
END:DAYLIGHT
BEGIN:STANDARD
TZOFFSETFROM:+1300
TZOFFSETTO:+1200
TZNAME:NZST
DTSTART:20190406T140000
END:STANDARD
BEGIN:DAYLIGHT
TZOFFSETFROM:+1200
TZOFFSETTO:+1300
TZNAME:NZDT
DTSTART:20190928T140000
END:DAYLIGHT
BEGIN:STANDARD
TZOFFSETFROM:+1300
TZOFFSETTO:+1200
TZNAME:NZST
DTSTART:20200404T140000
END:STANDARD
BEGIN:DAYLIGHT
TZOFFSETFROM:+1200
TZOFFSETTO:+1300
TZNAME:NZDT
DTSTART:20200926T140000
END:DAYLIGHT
END:VTIMEZONE
BEGIN:VEVENT
DTSTART;VALUE=DATE:20190712
DTEND;VALUE=DATE:20190714
DTSTAMP:20260421T214113
CREATED:20190509T233916Z
LAST-MODIFIED:20191218T225658Z
UID:5312-1562889600-1563062399@sacredhill.com
SUMMARY:Winetopia Wellington
DESCRIPTION:Winetopia is your opportunity to indulge in the deeper joys of wine with the Sacred Hill winemakers and ‘Share a glass’ with local celebrities and wine gurus\, including Master of Wine Stephen Wong and head sommelier from the iconic Iceberg restaurant in Sydney\, Gabrielle Webster. \nJourney deeper into the uncorked world of New Zealand wine and sample a growing array of deep reds and world-class whites from 50 impressive wineries. \nRidiculously Good Value Tickets are $32* and ON SALE NOW.   This includes entry to one session\, five wine tasting tokens (valued at $10)\, a Spiegelau wine glass (valued at $20).  *Booking fee applies. Once sold out\, tickets are $42. \nTickets are strictly limited so get them before they sell out
URL:https://sacredhill.com/events/winetopia-wellington/
LOCATION:TSB Bank Arena\, 4 Queens Wharf\, Wellington\, 6011\, New Zealand
CATEGORIES:Winetopia
END:VEVENT
BEGIN:VEVENT
DTSTART;VALUE=DATE:20190614
DTEND;VALUE=DATE:20190616
DTSTAMP:20260421T214113
CREATED:20190509T232718Z
LAST-MODIFIED:20190509T233025Z
UID:5310-1560470400-1560643199@sacredhill.com
SUMMARY:Winetopia Auckland
DESCRIPTION:Winetopia is your opportunity to indulge in the deeper joys of wine with the Sacred Hill winemakers and ‘Share a glass’ with local celebrities and wine gurus\, including Master of Wine Bob Campbell and Australian wine expert Nick Stock. \nJourney deeper into the uncorked world of New Zealand wine and sample a growing array of deep reds and world-class whites from 60 impressive wineries. \nRidiculously Good Value Tickets are $32* and ON SALE NOW.   This includes entry to one session\, five wine tasting tokens (valued at $10)\, a Spiegelau wine glass (valued at $20).  *Booking fee applies. Once sold out\, tickets are $42. \nTickets are strictly limited so get them before they sell out – https://www.iticket.co.nz/events/2019/jun/winetopia
URL:https://sacredhill.com/events/winetopia-auckland-3/
LOCATION:Queens Wharf\, 89 Quay Street\, Auckland\, 1025\, New Zealand
CATEGORIES:Winetopia
END:VEVENT
BEGIN:VEVENT
DTSTART;TZID=Pacific/Auckland:20180629T170000
DTEND;TZID=Pacific/Auckland:20180630T200000
DTSTAMP:20260421T214113
CREATED:20180406T014137Z
LAST-MODIFIED:20180406T014452Z
UID:1904-1530291600-1530388800@sacredhill.com
SUMMARY:Winetopia Wellington
DESCRIPTION:Winetopia is your opportunity to indulge in the deeper joys of wine with the Sacred Hill winemakers and ‘Share a glass’ with local celebrities and wine gurus\, including Master of Wine Stephen Wong and International wine expert Nick Stock. \nJourney deeper into the uncorked world of New Zealand wine and sample a growing array of deep reds and world-class whites from 45 impressive wineries! \nRidiculously Good Value Tickets are $29* and ON SALE NOW.   This includes entry to one session\, five wine tasting tokens (valued at $10)\, a Spiegelau wine glass (valued at $20).  *Booking fee applies. Once sold out\, tickets are $39. \nTickets are strictly limited so get them before they sell out –https://www.iticket.co.nz/events/2018/jun/winetopia
URL:https://sacredhill.com/events/winetopia-auckland-2/
LOCATION:TSB Bank Arena\, 4 Queens Wharf\, Wellington\, 6011\, New Zealand
CATEGORIES:Winetopia
ATTACH;FMTTYPE=image/png:https://sacredhill.com/wp-content/uploads/17265203_192557801232958_285190308780406256_n.png
END:VEVENT
BEGIN:VEVENT
DTSTART;TZID=Pacific/Auckland:20180622T170000
DTEND;TZID=Pacific/Auckland:20180623T200000
DTSTAMP:20260421T214113
CREATED:20180406T013405Z
LAST-MODIFIED:20180406T014531Z
UID:1895-1529686800-1529784000@sacredhill.com
SUMMARY:Winetopia Auckland
DESCRIPTION:Winetopia is your opportunity to indulge in the deeper joys of wine with the Sacred Hill winemakers and ‘Share a glass’ with local celebrities and wine gurus\, including Master of Wine Bob Campbell and International wine expert Mike Bennie. \nJourney deeper into the uncorked world of New Zealand wine and sample a growing array of deep reds and world-class whites from 60 impressive wineries. \nRidiculously Good Value Tickets are $29* and ON SALE NOW.   This includes entry to one session\, five wine tasting tokens (valued at $10)\, a Spiegelau wine glass (valued at $20).  *Booking fee applies. Once sold out\, tickets are $39. \nTickets are strictly limited so get them before they sell out –https://www.iticket.co.nz/events/2018/jun/winetopia
URL:https://sacredhill.com/events/winetopia-auckland/
LOCATION:Shed 10\, Queen’s Wharf\, 89 Quay Street\, Auckland\, 1025\, New Zealand
CATEGORIES:Winetopia
ATTACH;FMTTYPE=image/png:https://sacredhill.com/wp-content/uploads/17265203_192557801232958_285190308780406256_n.png
END:VEVENT
END:VCALENDAR