BEGIN:VCALENDAR
VERSION:2.0
PRODID:-//Sacred Hill - ECPv6.15.17.1//NONSGML v1.0//EN
CALSCALE:GREGORIAN
METHOD:PUBLISH
X-WR-CALNAME:Sacred Hill
X-ORIGINAL-URL:https://sacredhill.com
X-WR-CALDESC:Events for Sacred Hill
REFRESH-INTERVAL;VALUE=DURATION:PT1H
X-Robots-Tag:noindex
X-PUBLISHED-TTL:PT1H
BEGIN:VTIMEZONE
TZID:Pacific/Auckland
BEGIN:STANDARD
TZOFFSETFROM:+1300
TZOFFSETTO:+1200
TZNAME:NZST
DTSTART:20170401T140000
END:STANDARD
BEGIN:DAYLIGHT
TZOFFSETFROM:+1200
TZOFFSETTO:+1300
TZNAME:NZDT
DTSTART:20170923T140000
END:DAYLIGHT
BEGIN:STANDARD
TZOFFSETFROM:+1300
TZOFFSETTO:+1200
TZNAME:NZST
DTSTART:20180331T140000
END:STANDARD
BEGIN:DAYLIGHT
TZOFFSETFROM:+1200
TZOFFSETTO:+1300
TZNAME:NZDT
DTSTART:20180929T140000
END:DAYLIGHT
BEGIN:STANDARD
TZOFFSETFROM:+1300
TZOFFSETTO:+1200
TZNAME:NZST
DTSTART:20190406T140000
END:STANDARD
BEGIN:DAYLIGHT
TZOFFSETFROM:+1200
TZOFFSETTO:+1300
TZNAME:NZDT
DTSTART:20190928T140000
END:DAYLIGHT
END:VTIMEZONE
BEGIN:VEVENT
DTSTART;VALUE=DATE:20180726
DTEND;VALUE=DATE:20180731
DTSTAMP:20260425T001140
CREATED:20180306T130817Z
LAST-MODIFIED:20180321T133640Z
UID:1141-1532606400-1532951999@sacredhill.com
SUMMARY:The Food Show - Auckland
DESCRIPTION:Take your taste buds on a trip all over the world without leaving Auckland. The Food Show makes sampling the best cuisine from New Zealand and overseas easy by gathering the biggest\, broadest\, and most downright delicious selection of food all in one place. \nSacred Hill will be among the huge range of local and international producers and will have some of our favourites available to taste and purchase at show
URL:https://sacredhill.com/events/the-food-show/
LOCATION:ASB Showgrounds\, 217 Green Lane West\, Auckland\, 1051\, New Zealand
CATEGORIES:Food Shows
ATTACH;FMTTYPE=image/jpeg:https://sacredhill.com/wp-content/uploads/2018/03/FoodShow-logo2-e1520387640606.jpg
END:VEVENT
END:VCALENDAR